BEGIN:VCALENDAR
VERSION:2.0
PRODID:-//Temple Beth Torah - ECPv6.15.17.1//NONSGML v1.0//EN
CALSCALE:GREGORIAN
METHOD:PUBLISH
X-WR-CALNAME:Temple Beth Torah
X-ORIGINAL-URL:https://templebethtorahli.org
X-WR-CALDESC:Events for Temple Beth Torah
REFRESH-INTERVAL;VALUE=DURATION:PT1H
X-Robots-Tag:noindex
X-PUBLISHED-TTL:PT1H
BEGIN:VTIMEZONE
TZID:America/New_York
BEGIN:DAYLIGHT
TZOFFSETFROM:-0500
TZOFFSETTO:-0400
TZNAME:EDT
DTSTART:20240310T070000
END:DAYLIGHT
BEGIN:STANDARD
TZOFFSETFROM:-0400
TZOFFSETTO:-0500
TZNAME:EST
DTSTART:20241103T060000
END:STANDARD
BEGIN:DAYLIGHT
TZOFFSETFROM:-0500
TZOFFSETTO:-0400
TZNAME:EDT
DTSTART:20250309T070000
END:DAYLIGHT
BEGIN:STANDARD
TZOFFSETFROM:-0400
TZOFFSETTO:-0500
TZNAME:EST
DTSTART:20251102T060000
END:STANDARD
BEGIN:DAYLIGHT
TZOFFSETFROM:-0500
TZOFFSETTO:-0400
TZNAME:EDT
DTSTART:20260308T070000
END:DAYLIGHT
BEGIN:STANDARD
TZOFFSETFROM:-0400
TZOFFSETTO:-0500
TZNAME:EST
DTSTART:20261101T060000
END:STANDARD
END:VTIMEZONE
BEGIN:VEVENT
DTSTART;TZID=America/New_York:20250905T190300
DTEND;TZID=America/New_York:20250905T190300
DTSTAMP:20260417T063149
CREATED:20240918T190848Z
LAST-MODIFIED:20240918T190848Z
UID:4645-1757098980-1757098980@templebethtorahli.org
SUMMARY:Candle lighting
DESCRIPTION:
URL:https://templebethtorahli.org/event/candle-lighting-41/
CATEGORIES:Candle Lighting
END:VEVENT
BEGIN:VEVENT
DTSTART;TZID=America/New_York:20250912T185100
DTEND;TZID=America/New_York:20250912T185100
DTSTAMP:20260417T063149
CREATED:20240918T190848Z
LAST-MODIFIED:20240918T190848Z
UID:4646-1757703060-1757703060@templebethtorahli.org
SUMMARY:Candle lighting
DESCRIPTION:
URL:https://templebethtorahli.org/event/candle-lighting-42/
CATEGORIES:Candle Lighting
END:VEVENT
BEGIN:VEVENT
DTSTART;TZID=America/New_York:20250919T183900
DTEND;TZID=America/New_York:20250919T183900
DTSTAMP:20260417T063149
CREATED:20240918T190848Z
LAST-MODIFIED:20240918T190848Z
UID:4647-1758307140-1758307140@templebethtorahli.org
SUMMARY:Candle lighting
DESCRIPTION:
URL:https://templebethtorahli.org/event/candle-lighting-43/
CATEGORIES:Candle Lighting
END:VEVENT
BEGIN:VEVENT
DTSTART;TZID=America/New_York:20250922T183400
DTEND;TZID=America/New_York:20250922T183400
DTSTAMP:20260417T063149
CREATED:20240918T190848Z
LAST-MODIFIED:20240918T190848Z
UID:4648-1758566040-1758566040@templebethtorahli.org
SUMMARY:Candle lighting
DESCRIPTION:
URL:https://templebethtorahli.org/event/candle-lighting-44/
CATEGORIES:Candle Lighting
END:VEVENT
BEGIN:VEVENT
DTSTART;TZID=America/New_York:20250923T193200
DTEND;TZID=America/New_York:20250923T193200
DTSTAMP:20260417T063149
CREATED:20240918T190848Z
LAST-MODIFIED:20240918T190848Z
UID:4649-1758655920-1758655920@templebethtorahli.org
SUMMARY:Candle lighting
DESCRIPTION:
URL:https://templebethtorahli.org/event/candle-lighting-45/
CATEGORIES:Candle Lighting
END:VEVENT
BEGIN:VEVENT
DTSTART;TZID=America/New_York:20250926T182700
DTEND;TZID=America/New_York:20250926T182700
DTSTAMP:20260417T063149
CREATED:20240918T190903Z
LAST-MODIFIED:20240918T190903Z
UID:4650-1758911220-1758911220@templebethtorahli.org
SUMMARY:Candle lighting
DESCRIPTION:
URL:https://templebethtorahli.org/event/candle-lighting-46/
CATEGORIES:Candle Lighting
END:VEVENT
END:VCALENDAR