BEGIN:VCALENDAR
VERSION:2.0
PRODID:-//Temple Beth Torah - ECPv6.15.17.1//NONSGML v1.0//EN
CALSCALE:GREGORIAN
METHOD:PUBLISH
X-ORIGINAL-URL:https://templebethtorahli.org
X-WR-CALDESC:Events for Temple Beth Torah
REFRESH-INTERVAL;VALUE=DURATION:PT1H
X-Robots-Tag:noindex
X-PUBLISHED-TTL:PT1H
BEGIN:VTIMEZONE
TZID:America/New_York
BEGIN:DAYLIGHT
TZOFFSETFROM:-0500
TZOFFSETTO:-0400
TZNAME:EDT
DTSTART:20240310T070000
END:DAYLIGHT
BEGIN:STANDARD
TZOFFSETFROM:-0400
TZOFFSETTO:-0500
TZNAME:EST
DTSTART:20241103T060000
END:STANDARD
BEGIN:DAYLIGHT
TZOFFSETFROM:-0500
TZOFFSETTO:-0400
TZNAME:EDT
DTSTART:20250309T070000
END:DAYLIGHT
BEGIN:STANDARD
TZOFFSETFROM:-0400
TZOFFSETTO:-0500
TZNAME:EST
DTSTART:20251102T060000
END:STANDARD
BEGIN:DAYLIGHT
TZOFFSETFROM:-0500
TZOFFSETTO:-0400
TZNAME:EDT
DTSTART:20260308T070000
END:DAYLIGHT
BEGIN:STANDARD
TZOFFSETFROM:-0400
TZOFFSETTO:-0500
TZNAME:EST
DTSTART:20261101T060000
END:STANDARD
END:VTIMEZONE
BEGIN:VEVENT
DTSTART;VALUE=DATE:20250410
DTEND;VALUE=DATE:20250411
DTSTAMP:20260417T013017
CREATED:20241227T213755Z
LAST-MODIFIED:20241227T213755Z
UID:4889-1744243200-1744329599@templebethtorahli.org
SUMMARY:Search for Chometz - Apr 10
DESCRIPTION:
URL:https://templebethtorahli.org/event/search-for-chometz-apr-10-2/
CATEGORIES:Holiday
END:VEVENT
BEGIN:VEVENT
DTSTART;VALUE=DATE:20250412
DTEND;VALUE=DATE:20250413
DTSTAMP:20260417T013017
CREATED:20241227T213755Z
LAST-MODIFIED:20241227T213755Z
UID:4890-1744416000-1744502399@templebethtorahli.org
SUMMARY:Passover - 1st Seder - Apr 12
DESCRIPTION:
URL:https://templebethtorahli.org/event/passover-1st-seder-apr-12-2/
CATEGORIES:Holiday
END:VEVENT
BEGIN:VEVENT
DTSTART;VALUE=DATE:20250413
DTEND;VALUE=DATE:20250414
DTSTAMP:20260417T013017
CREATED:20241227T213809Z
LAST-MODIFIED:20241227T213809Z
UID:4891-1744502400-1744588799@templebethtorahli.org
SUMMARY:Passover - 1st Day - Apr 13
DESCRIPTION:
URL:https://templebethtorahli.org/event/passover-1st-day-apr-13-2/
CATEGORIES:Holiday
END:VEVENT
BEGIN:VEVENT
DTSTART;VALUE=DATE:20250413
DTEND;VALUE=DATE:20250414
DTSTAMP:20260417T013017
CREATED:20241227T213809Z
LAST-MODIFIED:20241227T213809Z
UID:4892-1744502400-1744588799@templebethtorahli.org
SUMMARY:Passover - 2nd Seder - Apr 13
DESCRIPTION:
URL:https://templebethtorahli.org/event/passover-2nd-seder-apr-13-2/
CATEGORIES:Holiday
END:VEVENT
BEGIN:VEVENT
DTSTART;VALUE=DATE:20250414
DTEND;VALUE=DATE:20250415
DTSTAMP:20260417T013017
CREATED:20241227T213809Z
LAST-MODIFIED:20241227T213809Z
UID:4893-1744588800-1744675199@templebethtorahli.org
SUMMARY:Passover - 2nd Day - Apr 14
DESCRIPTION:
URL:https://templebethtorahli.org/event/passover-2nd-day-apr-14-2/
CATEGORIES:Holiday
END:VEVENT
BEGIN:VEVENT
DTSTART;VALUE=DATE:20250419
DTEND;VALUE=DATE:20250420
DTSTAMP:20260417T013017
CREATED:20241227T213809Z
LAST-MODIFIED:20241227T213809Z
UID:4894-1745020800-1745107199@templebethtorahli.org
SUMMARY:Passover - 7th Day - Apr 19
DESCRIPTION:
URL:https://templebethtorahli.org/event/passover-7th-day-apr-19-2/
CATEGORIES:Holiday
END:VEVENT
BEGIN:VEVENT
DTSTART;VALUE=DATE:20250420
DTEND;VALUE=DATE:20250421
DTSTAMP:20260417T013017
CREATED:20241227T213810Z
LAST-MODIFIED:20241227T213810Z
UID:4895-1745107200-1745193599@templebethtorahli.org
SUMMARY:Passover - 8th Day - Apr 20
DESCRIPTION:
URL:https://templebethtorahli.org/event/passover-8th-day-apr-20-2/
CATEGORIES:Holiday
END:VEVENT
BEGIN:VEVENT
DTSTART;VALUE=DATE:20250420
DTEND;VALUE=DATE:20250421
DTSTAMP:20260417T013017
CREATED:20241227T213824Z
LAST-MODIFIED:20241227T213824Z
UID:4896-1745107200-1745193599@templebethtorahli.org
SUMMARY:Yizkor - Apr 20
DESCRIPTION:
URL:https://templebethtorahli.org/event/yizkor-apr-20-2/
CATEGORIES:Holiday
END:VEVENT
END:VCALENDAR